BEGIN:VCALENDAR
VERSION:2.0
PRODID:-//International Association for the History of Transport, Traffic and Mobility - ECPv6.15.20//NONSGML v1.0//EN
CALSCALE:GREGORIAN
METHOD:PUBLISH
X-WR-CALNAME:International Association for the History of Transport, Traffic and Mobility
X-ORIGINAL-URL:https://t2m.org
X-WR-CALDESC:Events for International Association for the History of Transport, Traffic and Mobility
REFRESH-INTERVAL;VALUE=DURATION:PT1H
X-Robots-Tag:noindex
X-PUBLISHED-TTL:PT1H
BEGIN:VTIMEZONE
TZID:America/Halifax
BEGIN:DAYLIGHT
TZOFFSETFROM:-0400
TZOFFSETTO:-0300
TZNAME:ADT
DTSTART:20250309T060000
END:DAYLIGHT
BEGIN:STANDARD
TZOFFSETFROM:-0300
TZOFFSETTO:-0400
TZNAME:AST
DTSTART:20251102T050000
END:STANDARD
BEGIN:DAYLIGHT
TZOFFSETFROM:-0400
TZOFFSETTO:-0300
TZNAME:ADT
DTSTART:20260308T060000
END:DAYLIGHT
BEGIN:STANDARD
TZOFFSETFROM:-0300
TZOFFSETTO:-0400
TZNAME:AST
DTSTART:20261101T050000
END:STANDARD
BEGIN:DAYLIGHT
TZOFFSETFROM:-0400
TZOFFSETTO:-0300
TZNAME:ADT
DTSTART:20270314T060000
END:DAYLIGHT
BEGIN:STANDARD
TZOFFSETFROM:-0300
TZOFFSETTO:-0400
TZNAME:AST
DTSTART:20271107T050000
END:STANDARD
END:VTIMEZONE
BEGIN:VTIMEZONE
TZID:Europe/Helsinki
BEGIN:DAYLIGHT
TZOFFSETFROM:+0200
TZOFFSETTO:+0300
TZNAME:EEST
DTSTART:20250330T010000
END:DAYLIGHT
BEGIN:STANDARD
TZOFFSETFROM:+0300
TZOFFSETTO:+0200
TZNAME:EET
DTSTART:20251026T010000
END:STANDARD
BEGIN:DAYLIGHT
TZOFFSETFROM:+0200
TZOFFSETTO:+0300
TZNAME:EEST
DTSTART:20260329T010000
END:DAYLIGHT
BEGIN:STANDARD
TZOFFSETFROM:+0300
TZOFFSETTO:+0200
TZNAME:EET
DTSTART:20261025T010000
END:STANDARD
BEGIN:DAYLIGHT
TZOFFSETFROM:+0200
TZOFFSETTO:+0300
TZNAME:EEST
DTSTART:20270328T010000
END:DAYLIGHT
BEGIN:STANDARD
TZOFFSETFROM:+0300
TZOFFSETTO:+0200
TZNAME:EET
DTSTART:20271031T010000
END:STANDARD
END:VTIMEZONE
BEGIN:VEVENT
DTSTART;VALUE=DATE:20260507
DTEND;VALUE=DATE:20260508
DTSTAMP:20260423T213902
CREATED:20251031T140154Z
LAST-MODIFIED:20251031T140154Z
UID:10479-1778112000-1778198399@t2m.org
SUMMARY:24th European Transport Congress "Resilient and Reliable Mobility Systems: Insights from Science and Practice"
DESCRIPTION:In 2026\, the Austrian Association for Traffic and Transport Sciences (ÖVG) celebrates its 100th anniversary – and we warmly invite you to join us for this special occasion! \nOn May 7\, 2026\, we will host an international anniversary conference in the beautiful Kuppelsaal of TU Wien\, in conjunction with the 24th European Transport Congress. The event will bring together leading voices from across Europe through inspiring keynotes\, high-level panels\, and scientific contributions from the mobility and transport research community. \nAt the heart of the conference are four key topics that pose major challenges – and opportunities – for our sector\, now and in the future: \n\nLabour & diversity\nClimate change & resilience\nAsset management & availability\nGeopolitical change & strategic dependencies\n\nSubmissions\nThe 2026 theme\, “Resilient and Reliable Mobility Systems: Insights from Science and Practice\,” invites contributions that explore how transport infrastructure can adapt to a changing climate\, meet increasing availability demands\, and remain robust amid external shocks. \nWe particularly welcome submissions on\, but not limited to\, the following topics: \n1. Maintenance and Availability of Transport Infrastructures \n2. Climate Change and Resilience in Relation to Transport Infrastructures \nWe invite the submission of extended abstracts (up to 9\,000 characters\, approx. 4 pages) for peer review by the Scientific Committee. A word template is provided for the extended abstracts. Accepted contributions will be presented in the technical sessions of the conference. Outstanding submissions will be invited to submit a full paper for consideration in special issues at European Transport Studies (ETS) and the Austrian Journal of Traffic Sciences (ÖZV).
URL:https://t2m.org/event/24th-european-transport-congress-resilient-and-reliable-mobility-systems-insights-from-science-and-practice/
CATEGORIES:conference
END:VEVENT
BEGIN:VEVENT
DTSTART;TZID=America/Halifax:20260601T080000
DTEND;TZID=America/Halifax:20260601T170000
DTSTAMP:20260423T213902
CREATED:20251212T142506Z
LAST-MODIFIED:20251212T142506Z
UID:10600-1780300800-1780333200@t2m.org
SUMMARY:Call: 2026 Global Mobility Humanities Conference
DESCRIPTION:“Climate\, Mobility and Infrastructure”\n29 ~ 31 October 2026\nKonkuk University\, Seoul\nCall for Participation\nMobilities are woven into ‘the plot of the global climate crisis’\, and people’s movements are among ‘the most topical and concerning symptoms of planetary transformations’ (Baldwin and Bettini 2017\, 10). For this reason\, mobility scholarship has produced robust literature discussing mobility in relation with the climate since its earliest period\, for example when After the Car (Dennis and Urry 2009) was published. This literature has mainly focused on various but interconnected themes\, such as mobility transitions or fossil fuel and energy transitions\, climate migrants or refugees\, Anthropocene or more-than-human mobilities\, alternative mobilities or mobile (social) life\, and mobility governance or politics. Recently\, many journals have also organised special issues on topics such as ‘Anthropocene Mobilities’ (Mobilities\, 2019)\, ‘Time and Mobility after the Anthropocene’ (Sustainability\, 2020)\, ‘Shapes of Socio-ecologically Sustainable Mobility Regimes’ (Applied Mobilities\, 2023)\, ‘Mobility Justice’ (Australian Geographer\, 2023) and ‘Auto/biography\, Mobilities and the Climate Emergency’ (Mobilities\, 2024). These continuing publications demonstrate the enormous urgency and complexity of climate change today\, as well as alluding to the potential topics requiring the attention of mobility scholarship to achieve ‘more just mobility futures’ (Sheller 2021).\nBuilding on the theme of ‘mobility\, infrastructure\, and the humanities’ which was discussed at the 2022 GMHC\, this conference invites scholars to discuss mobility infrastructures in relation to the climate. While mobility infrastructures often have critical impacts on exacerbating today’s climate change through their construction\, maintenance\, and operation\, they are also ‘significantly exposed to the impacts of climate change’ which can lead to ‘widespread infrastructure failure and damages’ (OECD 2024). These impacts result in disproportionate social and environmental consequences based not only on geography but also on factors such as race\, class\, gender\, and age\, thus prompting us to attend to ‘climate mobility regimes’ which ‘frame\, manage\, and regulate the nexus between mobilities and climate change in a particular manner’ (Boas et al. 2022\, 3371).\nSome of emergent trends in recent times related to the above themes include the competitive development of electric vehicles (sometimes across geopolitical spaces) and the formation of ride-sharing economies. These technological innovations often intersect with deeply troubling Big Tech capitalism and monopolies\, both pushing away alternate models of transportation (such as cycling) and doing missionary work for automobility all over again (Liu\, 2022). At the same time\, the ‘growing importance of datafication and algorithmic culture across diverse (im)mobilities’ shows that ‘hybrid physical and data mobilities’ and datadriven mobility infrastructures are becoming increasingly important in addressing climate change (Behrendt and Sheller 2023). Urban Digital Twins (UDTs)\, for instance\, are considered to foster innovation in tackling complex urban challenges\, including the climate emergency\, by facilitating data-driven decision-making for urban operators (Zhu and Jin 2025). Yet\, these technological promises can take on a spectacular dimension\, where the promise of technological salvation through smart and green technologies masks and perpetuates ongoing extractive or exclusionary practices.\nThe conference significantly encourages scholars ‘to intervene epistemologically and politically in an ontology of infrastructure for its transformation\, occasionally mobilising creativity and imagination’ (Adey et al. 2024) to create more just mobility futures. That is\, this conference is committed to ‘imagining other forms of social life’\, what Amitav Ghosh (2016) refers to as ‘the challenge posed by the climate crisis’. This will be achieved more effectively through cross-disciplinary discussions about climate\, mobility\, and infrastructure\, that traverse multiple scales of humans\, nonhumans\, and more-than-humans\, and that attend both physical and hybrid mobility infrastructures and envisioned\, speculated\, or sensed mobility infrastructures\, embedded in literary\, cultural\, visual\, and creative endeavours and works.\nThis conference invites proposals from different disciplines within climate\, mobility and infrastructures studies\, including\, but not limited to: literary and cultural studies\, philosophy\, history\, art and design studies\, anthropology\, geography\, media and communication\, architecture\, urban planning\, climate and environmental studies\, science technology studies\, AI and data research\, tourism\, transportation\, education\, Black and Indigenous studies\, gender and sexuality studies\, and others. It will present an opportunity for scholars to share their ideas and inquiries at the intersection of climate\, mobility infrastructure\, and the humanities\, transcending the conventional divide between the social sciences and humanities and the arts. We accept proposals for papers and sessions on one or more of the following topics/areas:\n• Literary\, cultural\, and arts studies on climate and mobility infrastructure\n• Philosophical research on climate mobility and infrastructure\n• Qualitative studies on climate mobilities and infrastructures\n• Alternative (im)mobilities and infrastructures\n• Political ecology of mobility infrastructures\n• Hybrid mobilities and infrastructures studies\n• Affects\, emotions\, and senses of mobility infrastructure\n• Ethnography of mobility infrastructures of nonhumans and more-than-humans\n• Vital elements of resilient\, sustainable and quality infrastructure\n• Fantasies\, desires\, and speculations of (sustainable) mobility infrastructures\n• Electric vehicles\, autonomous vehicles and other technologies\n• Other related issues\nProposals can be for individual papers\, panels\, artworks\, posters\, and other creative formats\, as outlined below. We welcome relevant contributions from any academic perspective or discipline. Beyond scholars\, this includes professionals\, policymakers and practitioners in the transport\, traffic\, and mobility field\, as well as artists and creative professionals\, designers\, engineers and educationalists in the art and humanities.\nThe conference language is only English.\nKey Dates\n1 June 2026 Deadline for the submission of abstracts and full\, pre-organised sessions 29 June 2026 Notification of acceptance for abstracts and sessions 29 June 2026 Early Bird registration opens 3 August 2026 Early Bird registration closes\n14 September 2026 Registration closes\n29-31 October 2026 Conference\nSubmission formats\nIndividual Papers: Individual submission of a paper consists of an abstract (300 words) and a brief biography (100 words)\, including contact information. Papers will be grouped thematically by the programme committee and may become part of a 7/7\, debate\, or panel session.\nSessions: A full\, pre-organised 7/7\, debate\, or panel session. A session submission should include a title\, a summary of the session theme and the method chosen for facilitating discussion (300 words)\, as well as abstracts for each contribution/presentation (300 words). A short biography of each presenter is also required (100 words)\, with contact information.\n– 7/7 sessions: This means seven slides and seven minutes for each presentation (max 7 papers). The sessions will have plenty of time for discussion. This will be supported by having a chair who might also act as a discussant. Presenters shall focus on their main argument in order to avoid overly complex presentations.\n– Debate sessions: Debate sessions have a maximum of five presenters. Each gives a five-minute focused input to the topic\, and this should be followed by a discussion involving the audience. Led by a chair.\n– Panel sessions: Panels consist of a chair\, three to four paper presenters\, and one discussant (optional). Panels should include time for audience discussion. Each presenter has 20 minutes (15 min + 5 min for questions); papers are grouped thematically.\nArtworks\, Posters\, and Other Creative Formats: They are great ways to exhibit artwork and to discuss early\, exploratory\, or creative work at the conference. A submission consists of an abstract (300 words) and a brief biography (100 words)\, including contact information. The full artwork\, poster\, and other creative format are due by 14 September 2026.\nAfter Acceptance\, all abstracts will be published on the conference website.\nSubmit your paper\, session proposals\, and /or poster to: 2026GMHC@gmail.com\nFor any questions\, send an email to: 2026GMHC@gmail.com\nRegistration\nAll participants must register and pay the registration fee via the conference website (details to follow)\, with only one submission per person.\nIndividual fee is for regular researchers.\nReduced fee is for PhD students\, researchers from the Global South\, and retired scholars.\nEarly Bird registration before 4 August 2026\nIndividual fee: 220 Euros\nReduced fee: 160 Euros\nRegistration after 4 October to 14 September 2026\nIndividual fee: 280 Euros\nReduced fee: 220 Euros\nThe registration fee will cover the costs for the conference materials\, coffee/tea breaks\, two lunches (Friday and Saturday)\, a welcome aperitive (Thursday evening)\, and two dinners (Friday and Saturday).\nPlease email the Organising Committee (2026GMHC@gmail.com) with the subject heading “2026GMHC\nInquiry” if you have any questions or concerns.
URL:https://t2m.org/event/call-2026-global-mobility-humanities-conference/
CATEGORIES:call for conference
END:VEVENT
BEGIN:VEVENT
DTSTART;VALUE=DATE:20260611
DTEND;VALUE=DATE:20260614
DTSTAMP:20260423T213902
CREATED:20251104T211045Z
LAST-MODIFIED:20251104T211045Z
UID:10484-1781136000-1781395199@t2m.org
SUMMARY:Travellers of the Sea – Conference on Maritime History\, Marine Archaeology and Ethnology
DESCRIPTION:Experience three cities and two countries during this travelling conference that will take place at the Maritime Centre Forum Marinum\, Turku\, House of Sciences and Letters in Helsinki\, Finland and at the Estonian Maritime Museum in Tallinn\, Estonia\, on 11th–13th June 2026. It is organised by the Finnish Maritime History Association\, the Finnish Maritime Archaeological Society\, the Estonian Maritime Museum and the Maritime Centre Forum Marinum. As with the 12 earlier biannual Maritime History Days conferences\, we aim to bring together scholars and students working on maritime history and related fields such as maritime archaeology\, ethnology and maritime folklore. \nThe overall theme of the conference is travelling by sea\, with no temporal or geographical limits and with a multispecies approach. Travelling by sea is probably as old as human society. Furthermore\, non-human animals have always travelled across the seas voluntarily or otherwise. Sea travel has countless purposes: to explore the world\, to make trade connections\, to migrate\, or to cruise. Sometimes the voyagers have been forced to escape from disasters or violent regimes. The Gulf of Finland\, for instance\, has connected Estonians and Finns for centuries\, from the seprakauppa/sõbrakaubandus trade to our own time when the sea area between Tallinn and Helsinki is one of the busiest ferry routes in the world. The increased mobility by people and goods has also raised questions on the sustainability of sea travel. More on the conference themes and topics can be found in our CFP below. \nWe aim to promote interdisciplinary encounters and discussions\, with the goal of bringing together scholars worldwide. The conference is intended for anyone working with topics somehow relating to the sea and maritime travel – previous experience with maritime history\, maritime archaeology\, or maritime ethnology specifically is not necessary. The bi-annual\, peer-reviewed journal Nautica Fennica will be offering participants the possibility to submit their papers in the journal. The publishing decisions will be made by the Nautica Fennica editorial board. More on Nautica Fennica here: https://smhy.fi/en/activities/nautica-fennica.  \nThe conference program includes three keynote lectures\, held by Dr. Kaori Nagai (Senior Lecturer in Victorian Literature\, University of Kent)\, Dr. Mirja Arnshav (Research Coordinator\, The National Maritime Museum\, Stockholm)\, and Dr. Matteo Barbano (Marie Skłodowska-Curie Fellow\, University of Genoa). Please find an introduction of our keynote speakers below. \nFor more information see: https://www.smhy.fi/en/activities/travellers-sea-conference
URL:https://t2m.org/event/travellers-of-the-sea-conference-on-maritime-history-marine-archaeology-and-ethnology/
CATEGORIES:conference
END:VEVENT
END:VCALENDAR